BEGIN:VCALENDAR
VERSION:2.0
PRODID:-//Total Sambo Aquitaine - ECPv6.15.13//NONSGML v1.0//EN
CALSCALE:GREGORIAN
METHOD:PUBLISH
X-ORIGINAL-URL:https://totalsamboaquitaine.fr
X-WR-CALDESC:Évènements pour Total Sambo Aquitaine
REFRESH-INTERVAL;VALUE=DURATION:PT1H
X-Robots-Tag:noindex
X-PUBLISHED-TTL:PT1H
BEGIN:VTIMEZONE
TZID:Europe/Paris
BEGIN:DAYLIGHT
TZOFFSETFROM:+0100
TZOFFSETTO:+0200
TZNAME:CEST
DTSTART:20220327T010000
END:DAYLIGHT
BEGIN:STANDARD
TZOFFSETFROM:+0200
TZOFFSETTO:+0100
TZNAME:CET
DTSTART:20221030T010000
END:STANDARD
BEGIN:DAYLIGHT
TZOFFSETFROM:+0100
TZOFFSETTO:+0200
TZNAME:CEST
DTSTART:20230326T010000
END:DAYLIGHT
BEGIN:STANDARD
TZOFFSETFROM:+0200
TZOFFSETTO:+0100
TZNAME:CET
DTSTART:20231029T010000
END:STANDARD
BEGIN:DAYLIGHT
TZOFFSETFROM:+0100
TZOFFSETTO:+0200
TZNAME:CEST
DTSTART:20240331T010000
END:DAYLIGHT
BEGIN:STANDARD
TZOFFSETFROM:+0200
TZOFFSETTO:+0100
TZNAME:CET
DTSTART:20241027T010000
END:STANDARD
END:VTIMEZONE
BEGIN:VEVENT
DTSTART;TZID=Europe/Paris:20231104T080000
DTEND;TZID=Europe/Paris:20231104T180000
DTSTAMP:20260424T104107
CREATED:20231014T163702Z
LAST-MODIFIED:20231104T215744Z
UID:410-1699084800-1699120800@totalsamboaquitaine.fr
SUMMARY:Stage de Sambo sportif & combat tous niveaux
DESCRIPTION:Programme :\n\n8h00 – Accueil des participants – paiement.\n9h00 – « Sambo et prévention des blessures » – intervention de Lauriane COTT kinésithérapeute et ostéopathe.\n9h30 – Échauffement orienté\n\nSaisir\nProjeter\nSoumettre\nRèglement\n\n\n10h00 – Techniques de Sambo sportif (ateliers) – matchs arbitrés\n11h30 – Sparring \n12h00 – Pause – Repas tiré du sac.\n14h00 – Échauffement orienté\nPasser du pied-poing au corps à corps (debout\, sol)\n14h30 – Techniques de Sambo combat (ateliers) – matchs arbitrés\n16h30 – Sparring\n17h00 – Techniques avancées\n18h00 – Clôture sur le tapis\nDouches\nPot de l’amitié et barbecue (participants et amis) [sur réservation].\n\nEncadrement et intervenants :\n\nMax CATORC (enseignant)\nPascal GAUVIN  (enseignant)\nSébastien DESCOMBES (arbitre international)\nLauriane COTT (kinésithérapeute ostéopathe)\nPrésence prévue de : Sylvain ROUYER\, double champion du Monde Masters\n\nTélécharger l’affiche du stage
URL:https://totalsamboaquitaine.fr/evenement/stage-de-sambo-sportif-combat/
LOCATION:Dojo Damo Yuan\, 59 Cours Saint Louis\, Imp. Conrad\, Bordeaux\, Nouvelle-Aquitaine\, 33000\, France
CATEGORIES:Stages
ORGANIZER;CN="Total Sambo Aquitaine":MAILTO:totalsamboaquitaine.tsa@gmail.com
END:VEVENT
END:VCALENDAR