BEGIN:VCALENDAR
VERSION:2.0
PRODID:-//Total Sambo Aquitaine - ECPv6.15.13//NONSGML v1.0//EN
CALSCALE:GREGORIAN
METHOD:PUBLISH
X-WR-CALNAME:Total Sambo Aquitaine
X-ORIGINAL-URL:https://totalsamboaquitaine.fr
X-WR-CALDESC:Évènements pour Total Sambo Aquitaine
REFRESH-INTERVAL;VALUE=DURATION:PT1H
X-Robots-Tag:noindex
X-PUBLISHED-TTL:PT1H
BEGIN:VTIMEZONE
TZID:Europe/Paris
BEGIN:DAYLIGHT
TZOFFSETFROM:+0100
TZOFFSETTO:+0200
TZNAME:CEST
DTSTART:20220327T010000
END:DAYLIGHT
BEGIN:STANDARD
TZOFFSETFROM:+0200
TZOFFSETTO:+0100
TZNAME:CET
DTSTART:20221030T010000
END:STANDARD
BEGIN:DAYLIGHT
TZOFFSETFROM:+0100
TZOFFSETTO:+0200
TZNAME:CEST
DTSTART:20230326T010000
END:DAYLIGHT
BEGIN:STANDARD
TZOFFSETFROM:+0200
TZOFFSETTO:+0100
TZNAME:CET
DTSTART:20231029T010000
END:STANDARD
BEGIN:DAYLIGHT
TZOFFSETFROM:+0100
TZOFFSETTO:+0200
TZNAME:CEST
DTSTART:20240331T010000
END:DAYLIGHT
BEGIN:STANDARD
TZOFFSETFROM:+0200
TZOFFSETTO:+0100
TZNAME:CET
DTSTART:20241027T010000
END:STANDARD
END:VTIMEZONE
BEGIN:VEVENT
DTSTART;TZID=Europe/Paris:20231215T190000
DTEND;TZID=Europe/Paris:20231215T220000
DTSTAMP:20260422T154318
CREATED:20231201T123145Z
LAST-MODIFIED:20231201T123249Z
UID:646-1702666800-1702677600@totalsamboaquitaine.fr
SUMMARY:7ème rencontre inter-disciplines de l'académie Damo Yuan
DESCRIPTION:Évènement réservé aux adhérents des clubs de l’académie Damo Yuan. Pensez à vous inscrire en répondant au courriel de Carl que vous avez reçu. \nVendredi 15 décembre à 19:00 aura la 7ème rencontre inter-disciplines ouverte à tous les membres de l’académie Damo Yuan de Bordeaux (tous niveaux et toutes disciplines). \nLa formule reste inchangée : échanges techniques entre les différents groupes par discipline. Les élèves rencontrent tous les profs a tour de rôle pendant 20/30 min pour acquisition de principes ou techniques propres à la discipline.\nSuivi de 30 minutes de combat/sparring “assauts en Light contact” dans les règles prédéfinies et acceptées par chaque partie. \nTout le monde est bienvenu\, tous niveaux confondus (jeunes\, moins jeunes\, hommes et femmes\, ados ou adultes). Cette expérience devant rester une rencontre conviviale comme les précédentes sessions (exit esprit compétitif car il n’y a rien a gagner d’autre que la participation à cette expérience). \nCela se finira par un pot où chacun est libre d’emmener quelque chose à partager\, à grignoter ou boire afin de pouvoir échanger sur l’événement et la pratique en général. \nDisciplines représentées:\nKungfu\, sambo\, krav maga\, karaté\, jeet-kune-do.
URL:https://totalsamboaquitaine.fr/evenement/7eme-rencontre-inter-disciplines-de-lacademie-damo-yuan/
LOCATION:Dojo Damo Yuan\, 59 Cours Saint Louis\, Imp. Conrad\, Bordeaux\, Nouvelle-Aquitaine\, 33000\, France
CATEGORIES:Rencontres inter-disciplines
END:VEVENT
END:VCALENDAR